Workbook
Name list_cmp: Listes!$A$48:$H$48
Name List_CNU: Listes!$A$56:$A$112
Name List_Controle: Listes!$B$2:$B$6
Name List_Controle2: Listes!$A$2:$A$4
Name List_Mutualisation: Listes!$E$2:$E$3
Name List_NatureELP: Listes!$D$2:$D$6
Name List_RegimeInscription: Listes!$C$2:$C$3
Name List_Statut: Listes!$F$2:$F$4
Name List_Type: Listes!$G$2:$G$3
Name list_typedip: Listes!$H$2:$H$3
Name liste_cmp: #REF!
Name liste_cmp: #REF!
Name liste_cmp: #REF!
Name liste_cmp: #REF!
Name liste_cmp: #REF!
Name liste_cmp: #REF!
Name liste_mention: #REF!
Name liste_mention: #REF!
Name liste_mention: #REF!
Name liste_mention: #REF!
Name liste_mention: #REF!
Name liste_mention: #REF!
Name Médecine: #REF!
Name Médecine: #REF!
Name Médecine: #REF!
Name Por: #REF!
Name Por: #REF!
Name Por: #REF!
Name Por: #REF!
Name Por: #REF!
Name Por: #REF!
Name Portail_Droit: Listes!$B$49:$B$50
Name Portail_EG: Listes!$A$49:$A$50
Name Portail_LLAC: Listes!$D$49:$D$61
Name Portail_Psychologie: Listes!$H$49
Name Portail_SHS: #REF!
Name Portail_SHS: #REF!
Name Portail_SHS: #REF!
Name Portail_SHS: #REF!
Name Portail_SHS: #REF!
Name Portail_SHS: Listes!$C$49:$C$56
Name Portail_ST: Listes!$E$49:$E$54
Name Portail_STAPS: Listes!$G$49
Name Portail_SV: Listes!$F$49:$F$51
Name tab_code: #REF!
Name tab_code: #REF!
Name tab_code: #REF!
Name tab_code: #REF!
Name tab_code: #REF!
Name tab_code: #REF!
Name tab_code_dip: Listes!$A$8:$B$44

Sheet Listes
A1: Type contrôle | B1: Nature contrôle | C1: Régime d'inscription | D1: Nature ELP | E1: Mutualisation | F1: Statut | G1: Type | H1: Diplômes
A2: CCI (CC Intégral) | B2: Écrit | C2: Initiale Hors-Apprentissage / Formation Continue / Formation Permanente | D2: UE | E2: Porteuse | F2: Création | G2: Facultatif | H2: Portail
A3: CT (Contrôle terminal) | B3: Oral | C3: Contrat d'Apprentissage/ Contrat de Professionnalisation | D3: ECUE | E3: Portée | F3: Modification | G3: Complémentaire | H3: Double Portail
A4: CC&CT | B4: Écrit/Pratique | D4: BLOC | F4: Fermeture
B5: Rapport/Mémoire | D5: OPTION
B6: Pratique sportive | D6: Parcours Pédagogique
A8: Mention | B8: Codage Diplôme
A9: Sciences et technologie | B9: SPSIT18
A10: Sciences de l'Homme et de la Société | B10: HPSHS18
A11: Lettres Langues Arts et Communication | B11: HPLAC18
A12: Droit | B12: DPDRT18
A13: Économie et gestion | B13: IPECG18
A14: Sciences de la Vie | B14: SPVIE18
A15: STAPS | B15: PPSTA18
A16: Psychologie | B16: HPPSY18
A17: Humanités | B17: HPUMA18
A18: Économie-Sociologie | B18: IPSOE18
A19: Philosophie-Droit | B19: HPPHD18
... A44: Humanités | B44: HPSHS18
A48: Portail_EG | B48: Portail_Droit | C48: Portail_SHS | D48: Portail_LLAC | E48: Portail_ST | F48: Portail_SV | G48: Portail_STAPS | H48: Portail_Psychologie
A49: Économie et gestion | B49: Droit | C49: Histoire | D49: Philosophie | E49: Physique | F49: Sciences de la vie | G49: STAPS | H49: Psychologie
A50: Économie-Sociologie | B50: Capacaité en Droit | C50: Géographie | D50: Lettres | E50: Mathématiques | F50: Chimie-Sciences de la vie
C51: Sciences de l'homme, anthropologie, ethnologie | D51: Sciences du langage | E51: Sciences de la terre | F51: Bio-Geo-Sciences
C52: Sociologie | D52: Langue étrangères appliquées | E52: Sciences, inégnierie, technologie, environnement
C53: Psychologie | D53: Lettres Langues Arts et Communication | E53: Mathématiques-Physique
C54: Sciences et Humanités | D54: Langues, littératures et civilisations étrangères | E54: Mathématiques-Informatique
A55: CNU | C55: Humanités | D55: Musicologie
A56: 01-Droit privé et sciences criminelles | C56: Philosophie-Psychologie | D56: Arts du spectacle
A57: 02-Droit public | D57: Sciences du langage
A58: 03-Histoire du droit et des institutions | D58: Sciences de l'information et de la communication
A59: 04-Science politique | D59: Histoire-Lettres
A60: 05-Sciences économiques | D60: Musicologie - Science de l'homme, anthropologie, ethnologie
A61: 06-Sciences de gestion | D61: Philosophie-Droit
A62: 07-Sciences du langage : linguistique et phonétique générales
A63: 08-Langues et littératures anciennes
A64: 09-Langue et littérature françaises
A65: 10-Littératures comparées
A66: 11-Langues et littératures anglaises et anglo-saxonnes
A67: 12-Langues et littératures germaniques et scandinaves
A68: 13-Langues et littératures slaves
...

Sheet Calcul
A1: Heure Pédagogique | AA1: Heure CM
A3: Semestre 1 | D3: Semestre 2 | G3: Semestre 3 | J3: Semestre 4 | AA3: Semestre 1 | AB3: Semestre 2 | AC3: Semestre 3 | AD3: Semestre 4
A4: Heure CM | B4: Heure TD | C4: Heure TP | D4: Heure CM | E4: Heure TD | F4: Heure TP | G4: Heure CM | H4: Heure TD | I4: Heure TP | J4: Heure CM | K4: Heure TD | L4: Heure TP | AA4: ='S1 Maquette'!I19*1.5 -> 0 | AB4: ='S2 Maquette'!I19*1.5 -> 0 | AC4: ='S3 Maquette'!I19*1.5 -> 0 | AD4: ='S4 Maquette'!I19*1.5 -> 0
A5: =SUM(AA4:AA291) -> 840 | B5: =SUM('S1 Maquette'!J19:J300) -> 888 | C5: =SUM('S1 Maquette'!K19:K300) -> 0 | D5: =SUM(AB4:AB291) -> 906 | E5: =SUM('S2 Maquette'!J19:J300) -> 904 | F5: =SUM('S2 Maquette'!K19:K300) -> 0 | G5: =SUM(AC4:AC291) -> 375 | H5: =SUM('S3 Maquette'!J19:J300) -> 272 | I5: =SUM('S3 Maquette'!K19:K300) -> 0 | J5: =SUM(AD4:AD291) -> #REF! | K5: =SUM('S4 Maquette'!J19:J300) -> 296 | L5: =SUM('S4 Maquette'!K19:K300) -> 0 | AA5: ='S1 Maquette'!I20*1.5 -> 0 | AB5: ='S2 Maquette'!I20*1.5 -> 0 | AC5: ='S3 Maquette'!I20*1.5 -> 0 | AD5: ='S4 Maquette'!I20*1.5 -> 0
A6: Total | D6: Total | G6: Total | J6: Total | AA6: ='S1 Maquette'!I21*1.5 -> 0 | AB6: ='S2 Maquette'!I21*1.5 -> 0 | AC6: ='S3 Maquette'!I21*1.5 -> 0 | AD6: ='S4 Maquette'!I21*1.5 -> 0
A7: =SUM(A5,B5,C5) -> 1728 | D7: =SUM(D5,E5,F5) -> 1810 | G7: =SUM(G5,H5,I5) -> 647 | J7: =SUM(J5,K5,L5) -> #REF! | AA7: ='S1 Maquette'!I22*1.5 -> 0 | AB7: ='S2 Maquette'!I22*1.5 -> 0 | AC7: ='S3 Maquette'!I22*1.5 -> 0 | AD7: ='S4 Maquette'!I22*1.5 -> 0
A8: Total | G8: Total | AA8: ='S1 Maquette'!I23*1.5 -> 0 | AB8: ='S2 Maquette'!I23*1.5 -> 0 | AC8: ='S3 Maquette'!I23*1.5 -> 0 | AD8: ='S4 Maquette'!I23*1.5 -> 0
AA9: ='S1 Maquette'!I24*1.5 -> 0 | AB9: ='S2 Maquette'!I24*1.5 -> 0 | AC9: ='S3 Maquette'!I24*1.5 -> 0 | AD9: ='S4 Maquette'!I24*1.5 -> 0
A10: =SUM(A7,D7) -> 3538 | G10: =SUM(G7,J7) -> #REF! | AA10: ='S1 Maquette'!I25*1.5 -> 0 | AB10: ='S2 Maquette'!I25*1.5 -> 0 | AC10: ='S3 Maquette'!I25*1.5 -> 0 | AD10: ='S4 Maquette'!I25*1.5 -> 0
AA11: ='S1 Maquette'!I26*1.5 -> 0 | AB11: ='S2 Maquette'!I26*1.5 -> 0 | AC11: ='S3 Maquette'!I26*1.5 -> 0 | AD11: ='S4 Maquette'!I26*1.5 -> 0
AA12: ='S1 Maquette'!I27*1.5 -> 0 | AB12: ='S2 Maquette'!I27*1.5 -> 0 | AC12: ='S3 Maquette'!I27*1.5 -> 0 | AD12: ='S4 Maquette'!I27*1.5 -> 0
AA13: ='S1 Maquette'!I28*1.5 -> 36 | AB13: ='S2 Maquette'!I28*1.5 -> 36 | AC13: ='S3 Maquette'!I28*1.5 -> 36 | AD13: ='S4 Maquette'!I28*1.5 -> 36
A14: Heure Porté par la maquette | N14: Mutualisation Porteuse | AA14: ='S1 Maquette'!I29*1.5 -> 0 | AB14: ='S2 Maquette'!I29*1.5 -> 0 | AC14: ='S3 Maquette'!I29*1.5 -> 0 | AD14: ='S4 Maquette'!I29*1.5 -> 0
AA15: ='S1 Maquette'!I30*1.5 -> 0 | AB15: ='S2 Maquette'!I30*1.5 -> 0 | AC15: ='S3 Maquette'!I30*1.5 -> 0 | AD15: ='S4 Maquette'!I30*1.5 -> 0
A16: Semestre 1 | D16: Semestre 2 | G16: Semestre 3 | J16: Semestre 4 | N16: Semestre 1 | Q16: Semestre 2 | T16: Semestre 3 | W16: Semestre 4 | AA16: ='S1 Maquette'!I31*1.5 -> 30 | AB16: ='S2 Maquette'!I31*1.5 -> 30 | AC16: ='S3 Maquette'!I31*1.5 -> 18 | AD16: ='S4 Maquette'!I31*1.5 -> 18
A17: Heure CM | B17: Heure TD | C17: Heure TP | D17: Heure CM | E17: Heure TD | F17: Heure TP | G17: Heure CM | H17: Heure TD | I17: Heure TP | J17: Heure CM | K17: Heure TD | L17: Heure TP | N17: Heure CM | O17: Heure TD | P17: Heure TP | Q17: Heure CM | R17: Heure TD | S17: Heure TP | T17: Heure CM | U17: Heure TD | V17: Heure TP | W17: Heure CM | X17: Heure TD | Y17: Heure TP | AA17: ='S1 Maquette'!I32*1.5 -> 30 | AB17: ='S2 Maquette'!I32*1.5 -> 30 | AC17: ='S3 Maquette'!I32*1.5 -> 0 | AD17: ='S4 Maquette'!I32*1.5 -> 0
A18: =A5-N18 -> 126 | B18: =B5-O18 -> 44 | C18: =C5-P18 -> 0 | D18: =D5-Q18 -> 126 | E18: =E5-R18 -> 44 | F18: =F5-S18 -> 0 | G18: =G5-T18 -> 150 | H18: =H5-U18 -> 60 | ... L18: =L5-Y18 -> 0 | N18: =SUMIF('S1 Maquette'!M19:M300,"Portée",'S1 Maquette'!I19:I300)*1.5 -> 714 | O18: =SUMIF('S1 Maquette'!M19:M300,"Portée",'S1 Maquette'!J19:J300) -> 844 | P18: =SUMIF('S1 Maquette'!M19:M300,"Portée",'S1 Maquette'!K19:K300) -> 0 | Q18: =SUMIF('S2 Maquette'!M19:M300,"Portée",'S2 Maquette'!I19:I300)*1.5 -> 780 | R18: =SUMIF('S2 Maquette'!M19:M300,"Portée",'S2 Maquette'!J19:J300) -> 860 | S18: =SUMIF('S2 Maquette'!M9:M300,"Portée",'S2 Maquette'!K19:K300) -> 0 | T18: =SUMIF('S3 Maquette'!M19:M300,"Portée",'S3 Maquette'!I19:I300)*1.5 -> 225 | U18: =SUMIF('S3 Maquette'!M19:M300,"Portée",'S3 Maquette'!J19:J300) -> 212 | V18: =SUMIF('S3 Maquette'!M19:M300,"Portée",'S3 Maquette'!K19:K300) -> 0 | W18: =SUMIF('S4 Maquette'!M19:M300,"Portée",'S4 Maquette'!I19:I300)*1.5 -> 225 | X18: =SUMIF('S4 Maquette'!M19:M300,"Portée",'S4 Maquette'!J19:J300) -> 224 | Y18: =SUMIF('S4 Maquette'!M19:M300,"Portée",'S4 Maquette'!K19:K300) -> 0 | AA18: ='S1 Maquette'!I33*1.5 -> 0 | AB18: ='S2 Maquette'!I33*1.5 -> 0 | AC18: ='S3 Maquette'!I33*1.5 -> 36 | AD18: ='S4 Maquette'!I33*1.5 -> 36
A19: Total | D19: Total | G19: Total | J19: Total | AA19: ='S1 Maquette'!I34*1.5 -> 0 | AB19: ='S2 Maquette'!I34*1.5 -> 0 | AC19: ='S3 Maquette'!I34*1.5 -> 0 | AD19: ='S4 Maquette'!I34*1.5 -> 0
A20: =SUM(A18,B18,C18) -> 170 | D20: =SUM(D18,E18,F18) -> 170 | G20: =SUM(G18,H18,I18) -> 210 | J20: =SUM(J18,K18,L18) -> #REF! | AA20: ='S1 Maquette'!I35*1.5 -> 0 | AB20: ='S2 Maquette'!I35*1.5 -> 0 | AC20: ='S3 Maquette'!I35*1.5 -> 30 | AD20: ='S4 Maquette'!I35*1.5 -> 30
A21: Total | G21: Total | AA21: ='S1 Maquette'!I36*1.5 -> 30 | AB21: ='S2 Maquette'!I36*1.5 -> 30 | AC21: ='S3 Maquette'!I36*1.5 -> 30 | AD21: ='S4 Maquette'!I36*1.5 -> 30
A22: =SUM(A20,D20) -> 340 | G22: =SUM(G20,J20) -> #REF! | AA22: ='S1 Maquette'!I37*1.5 -> 0 | AB22: ='S2 Maquette'!I37*1.5 -> 0 | AC22: ='S3 Maquette'!I37*1.5 -> 0 | AD22: ='S4 Maquette'!I62*1.5 -> 0
AA23: ='S1 Maquette'!I38*1.5 -> 0 | AB23: ='S2 Maquette'!I38*1.5 -> 0 | AC23: ='S3 Maquette'!I38*1.5 -> 0 | AD23: ='S4 Maquette'!#REF!*1.5 -> #REF!
AA24: ='S1 Maquette'!I39*1.5 -> 0 | AB24: ='S2 Maquette'!I39*1.5 -> 0 | AC24: ='S3 Maquette'!I39*1.5 -> 0 | AD24: ='S4 Maquette'!#REF!*1.5 -> #REF!
AA25: ='S1 Maquette'!I40*1.5 -> 0 | AB25: ='S2 Maquette'!I40*1.5 -> 0 | AC25: ='S3 Maquette'!I40*1.5 -> 22.5 | AD25: ='S4 Maquette'!#REF!*1.5 -> #REF!
AA26: ='S1 Maquette'!I41*1.5 -> 0 | AB26: ='S2 Maquette'!I41*1.5 -> 0 | AC26: ='S3 Maquette'!I41*1.5 -> 22.5 | AD26: ='S4 Maquette'!#REF!*1.5 -> #REF!
AA27: ='S1 Maquette'!I42*1.5 -> 0 | AB27: ='S2 Maquette'!I42*1.5 -> 45 | AC27: ='S3 Maquette'!I42*1.5 -> 0 | AD27: ='S4 Maquette'!#REF!*1.5 -> #REF!
AA28: ='S1 Maquette'!I43*1.5 -> 45 | AB28: ='S2 Maquette'!I43*1.5 -> 45 | AC28: ='S3 Maquette'!I43*1.5 -> 30 | AD28: ='S4 Maquette'!#REF!*1.5 -> #REF!
AA29: ='S1 Maquette'!I44*1.5 -> 0 | AB29: ='S2 Maquette'!I44*1.5 -> 0 | AC29: ='S3 Maquette'!I44*1.5 -> 30 | AD29: ='S4 Maquette'!#REF!*1.5 -> #REF!
AA30: ='S1 Maquette'!I45*1.5 -> 0 | AB30: ='S2 Maquette'!I45*1.5 -> 0 | AC30: ='S3 Maquette'!I45*1.5 -> 0 | AD30: ='S4 Maquette'!#REF!*1.5 -> #REF!
AA31: ='S1 Maquette'!I46*1.5 -> 0 | AB31: ='S2 Maquette'!I46*1.5 -> 0 | AC31: ='S3 Maquette'!I46*1.5 -> 30 | AD31: ='S4 Maquette'!#REF!*1.5 -> #REF!
AA32: ='S1 Maquette'!I47*1.5 -> 30 | AB32: ='S2 Maquette'!I47*1.5 -> 30 | AC32: ='S3 Maquette'!I47*1.5 -> 30 | AD32: ='S4 Maquette'!#REF!*1.5 -> #REF!
AA33: ='S1 Maquette'!I48*1.5 -> 30 | AB33: ='S2 Maquette'!I48*1.5 -> 30 | AC33: ='S3 Maquette'!I48*1.5 -> 30 | AD33: ='S4 Maquette'!#REF!*1.5 -> #REF!
AA34: ='S1 Maquette'!I49*1.5 -> 0 | AB34: ='S2 Maquette'!I49*1.5 -> 0 | AC34: ='S3 Maquette'!I49*1.5 -> 0 | AD34: ='S4 Maquette'!#REF!*1.5 -> #REF!
... AA46: ='S1 Maquette'!I61*1.5 -> 0 | AB46: ='S2 Maquette'!I61*1.5 -> 0 | AC46: ='S3 Maquette'!I61*1.5 -> 0 | AD46: ='S4 Maquette'!#REF!*1.5 -> #REF!
AA47: ='S1 Maquette'!I62*1.5 -> 0 | AB47: ='S2 Maquette'!I62*1.5 -> 0 | AC47: ='S3 Maquette'!I62*1.5 -> 0 | AD47: ='S4 Maquette'!I65*1.5 -> 0
AA48: ='S1 Maquette'!I63*1.5 -> 0 | AB48: ='S2 Maquette'!I63*1.5 -> 0 | AC48: ='S3 Maquette'!I63*1.5 -> 0 | AD48: ='S4 Maquette'!I66*1.5 -> 0
AA49: ='S1 Maquette'!I64*1.5 -> 30 | AB49: ='S2 Maquette'!I64*1.5 -> 30 | AC49: ='S3 Maquette'!I64*1.5 -> 30 | AD49: ='S4 Maquette'!I67*1.5 -> 30
AA50: ='S1 Maquette'!I65*1.5 -> 30 | AB50: ='S2 Maquette'!I65*1.5 -> 30 | AC50: ='S3 Maquette'!I65*1.5 -> 0 | AD50: ='S4 Maquette'!I68*1.5 -> 0
AA51: ='S1 Maquette'!I66*1.5 -> 0 | AB51: ='S2 Maquette'!I66*1.5 -> 0 | AC51: ='S3 Maquette'!I66*1.5 -> 0 | AD51: ='S4 Maquette'!#REF!*1.5 -> #REF!
AA52: ='S1 Maquette'!I67*1.5 -> 0 | AB52: ='S2 Maquette'!I67*1.5 -> 0 | AC52: ='S3 Maquette'!I67*1.5 -> 0 | AD52: ='S4 Maquette'!#REF!*1.5 -> #REF!
...

Sheet Fiche Générale
A1: Type Diplôme : Portail & Double Portail
A2: Types Diplômes | B2: Portail
A3: COMPOSANTE | B3: Portail_SHS
A4: MENTION | B4: Sociologie
A5: CODE DIPLÔME | B5: =IFERROR(VLOOKUP(B4,tab_code_dip,2,FALSE),"-") -> HPSHS18
A6: Régime d'inscription | B6: Initiale Hors-Apprentissage / Formation Continue / Formation Permanente
A8: Parcours Type Portail
A9: Parcours Type
A13: Heures Maquette Année 1 | B13: Heures Valorisées Année 1 | C13: Heures Maquette Année 2 | D13: Heures Valorisées Année 2
A15: =Calcul!A10 -> 3538 | B15: =Calcul!A22 -> 340 | C15: =Calcul!G10 -> #REF! | D15: =Calcul!G22 -> #REF!
A19: COMPENSATION
A20: Les MCC déterminent le mode de compensation entre UE, semestre et année ainsi que la possibilité d’une note éliminatoire.
A21: Obtention des UE
A22: Au sein de chaque UE, compensation entre ECUE
A25: Obtention du Semestre
A26: Compensation entre UE sauf avec l'UE compétences transversales c'est à dire la moyenne des 4 UE sans les CT dans chaque semestre doit etre égale ou supérieure à 10 pour la validation du semestre.
A27: Les semestres sont validés aussi à condition que les UE : Disciplinaire 1, Disciplinaire 2, Disciplinaire 3, Disciplinaire 4, Disciplinaire 5, Disciplinaire 6 aient une note supérieure ou égale à 7.
A30: Compensation entre semestres. Cependant la moyenne des 4 UE sans les CT dans chaque semestre doit etre égale ou supérieure à 10 pour la validation de l'année
A31: l'année est validée aussi à condition que les UE : Disciplinaire 1, Disciplinaire 2, Disciplinaire 3, Disciplinaire 4, Disciplinaire 5, Disciplinaire 6 aient une note supérieure ou égale à 7.
A33: Note éliminatoire/ Note seuil
A34: En-dessous de 7/20 aux UE disciplinaires : Disciplinaire 1, Disciplinaire 2, Disciplinaire 3, Disciplinaire 4, Disciplinaire 5, Disciplinaire 6, les semestres ni l'année ne sont pas validés.
A37: REDOUBLEMENT
... A42: Arrêté du 22 janvier 2014 fixant le cadre national des formations conduisant à la délivrance des diplômes nationaux de licence, de licence professionnelle et de master

Sheet S1 Maquette
A7: Composante | B7: ='Fiche Générale'!B3 -> Portail_SHS | C7: Diplôme | E7: ='Fiche Générale'!B4 -> Sociologie | G7: Code diplôme | H7: ='Fiche Générale'!B5 -> HPSHS18
C10: Parcours type | E10: ='Fiche Générale'!B9 -> 0
A13: Année | B13: 1ère année de Portail | C13: Code année | G13: Heure Maquette | H13: =Calcul!A7 -> 1728
A15: Semestre | B15: Semestre 1 | C15: Code semestre | G15: Heure Valorisées | H15: =Calcul!A20 -> 170
A18: Niveau | B18: Libellé ELP | C18: Nature ELP | D18: ECTS | E18: Type | F18: Statut | G18: Code Apogée | H18: CNU | I18: Heure CM | J18: Heure TD | K18: Heure TP | L18: Langues | M18: Mutualisation | N18: Formation Porteuse | O18: Observations / Remarques ex: Intervention à titre gracieux / Capacité d'accueil max
A19: 0 | B19: Compétences transversales S1 | C19: UE | D19: 6
A20: 0.1 | B20: Compétences écrites 1 | C20: ECUE
A21: 0.2 | B21: Compétences informationnelles | C21: ECUE
A22: 0.3 | B22: Langue Vivante-1 | C22: ECUE
B23: Min 1 Max 1 | C23: OPTION
A24: 0.3.1 | B24: Anglais 1 | C24: ECUE
A25: 0.3.2 | B25: Espagnol | C25: ECUE
A26: 0.3.3 | B26: Italien | C26: ECUE
A27: 1 | B27: Disciplinaire 1 | C27: UE | D27: 6 | O27: UE disciplinaire obligatoire pour les étudiant·es de sociologie et de la double licence socio-éco
A28: 1.1 | B28: Introduction à la sociologie | C28: ECUE | D28: 4 | H28: 19-Sociologie, démographie | I28: 24 | M28: Porteuse | O28: Socio (100) + double licence socio-éco (50)
A29: 1.2 | B29: Lire et interpréter les données sociales 1 | C29: ECUE | D29: 2 | H29: 19-Sociologie, démographie | J29: 24 | M29: Porteuse | O29: Socio (100) + double licence socio-éco (50)
A30: 2 | B30: UE Découverte dans la mention (UED sociologie 1) | C30: UE | D30: 6 | O30: UE découverte à choix ouverte aux étudiant·es du portail SHS et obligatoire pour les étudiant·es de sociologie et de la double licence socio-éco
A31: 2.1 | B31: Populations et sociétés | C31: ECUE | D31: 3 | H31: 19-Sociologie, démographie | I31: 20 | M31: Porteuse | O31: Socio (100) + double licence socio-éco (50) + portail SHS (100). Capacité d'accueil max : 250
A32: 2.2 | B32: Racisme et sociétés | C32: ECUE | D32: 3 | H32: 19-Sociologie, démographie | I32: 20 | M32: Porteuse | O32: Socio (100) + double licence socio-éco (50) + portail SHS (100). Capacité d'accueil max : 250
A33: 3 | B33: UE Découverte dans la mention (sociologie) ou dans le Portail | C33: BLOC
B34: Min1 max1 | C34: OPTION | O34: UE découverte à choix ouverte aux étudiant·es du portail SHS et non obligatoire pour les étudiant·es de sociologie et pas dans la maquette de la double licence socio-éco
A35: 3.1 | B35: UE Découverte dans la mention (UED sociologie 2) | C35: UE | D35: 6 | F35: Création | O35: UE découverte à choix ouverte aux étudiant·es du portail SHS et non obligatoire pour les étudiant·es de sociologie et pas dans la maquette de la double licence socio-éco
A36: 3.1.1 | B36: Grands ouvrages 1 | C36: ECUE | D36: 3 | F36: Création | H36: 19-Sociologie, démographie | I36: 20 | M36: Porteuse | O36: Portail SHS (entre 35 et 85 places). Capacité d'accueil max : 135
A37: 3.1.2 | B37: Méthodologies sociologiques 1 | C37: ECUE | D37: 3 | F37: Création | H37: 19-Sociologie, démographie | J37: 20 | M37: Porteuse | O37: Portail SHS (entre 35 et 85 places). Capacité d'accueil max : 135
A38: 3.2 | B38: UE Découverte dans le Portail | C38: BLOC | M38: Portée | O38: A choisir dans une UE à choix du portail SHS (hors sociologie)
B39: Min1 max 1 | C39: OPTION | O39: UE découverte à choisir dans une autre discipline du portail SHS (hors sociologie)
A40: 3.2.1 | B40: UE Découverte SHAE | C40: UE | M40: Portée | N40: SHAE | O40: UE à choix du portail SHS (hors sociologie)
B41: Min 1 Max 1 | C41: OPTION
A42: 3.2.1.1 | B42: UED Ethnologie 1 : Notions et concepts clés 1 | C42: UE | D42: 6 | F42: Modification | H42: 20-Anthropologie biologique, ethnologie, préhistoire | M42: Portée | N42: SHAE
A43: 3.2.1.2 | B43: UED Ethnologie 2 : Interculturalité : Regards croisés 1 | C43: UE | D43: 6 | F43: Création | H43: 20-Anthropologie biologique, ethnologie, préhistoire | I43: 30 | M43: Portée | N43: SHAE
A44: 3.2.2 | B44: UE découverte Géographie | C44: UE
C45: OPTION
A46: 3.2.2.1 | B46: UED géographie 1 : Géographie Fondamentale 1 | C46: UE | D46: 6 | H46: 23-Géographie physique, humaine, économique et régionale | M46: Portée | N46: Géographie et aménagement
A47: 3.2.2.1.1 | B47: Qu'est ce que la géographie ? | C47: ECUE | D47: 3 | H47: 23-Géographie physique, humaine, économique et régionale | I47: 20 | M47: Portée | N47: Géographie et aménagement
A48: 3.2.2.1.2 | B48: Introduction à la géographie physique | C48: ECUE | D48: 3 | H48: 23-Géographie physique, humaine, économique et régionale | I48: 20 | M48: Portée | N48: Géographie et aménagement
A49: 3.2.2.2 | B49: UED géographie 2 : géographie appliquée aménagement 1 | C49: UE | D49: 6 | H49: 24-Aménagement de l'espace, urbanisme | M49: Portée | N49: Géographie et aménagement
A50: 3.2.2.2.1 | B50: Sciences environnementales | C50: ECUE | D50: 3 | H50: 24-Aménagement de l'espace, urbanisme | I50: 20 | M50: Portée | N50: Géographie et aménagement
A51: 3.2.2.2.2 | B51: Aménagement du territoire (ex ville et son espace) grandes lois et structure territoire régional | C51: ECUE | D51: 3 | H51: 24-Aménagement de l'espace, urbanisme | I51: 20 | M51: Portée | N51: Géographie et aménagement
A52: 3.2.3 | B52: UE découverte SEF | C52: UE
C53: OPTION
...

Sheet S1 MCC
A7: Composante | B7: ='Fiche Générale'!B3 -> Portail_SHS | C7: Diplôme | E7: ='Fiche Générale'!B4 -> Sociologie | G7: Code diplôme | H7: ='Fiche Générale'!B5 -> HPSHS18
C10: Parcours type | E10: ='Fiche Générale'!B9 -> 0
M12: 1ère session | P12: Seconde Chance
A13: Année | B13: ='S1 Maquette'!B13 -> 1ère année de Portail | D13: Code Année | E13: ='S1 Maquette'!E13 -> 0
M14: Contrôle continu | N14: Contrôle Terminal
A15: Semestre | B15: ='S1 Maquette'!B15 -> Semestre 1 | D15: Code Semestre | E15: ='S1 Maquette'!E15:F16 -> 0
A18: Libellé | B18: Nature | C18: Statut | D18: Coefficient | E18: Notes attendues | F18: Résultat attendu: (ACQ/AJ) | G18: Conservation note | H18: Capitalisable | I18: Compensable | J18: Seuil de compensation /20 | K18: Type de contrôle | L18: Si CC&CT coef du CT | M18: Nbre d'évalution minimum | N18: Nature | O18: Durée | P18: Format d'évaluation | Q18: Nature | R18: Durée | S18: Modalités de mise en œuvre | T18: Commentaires
A19: ='S1 Maquette'!B19 -> Compétences transversales S1 | B19: ='S1 Maquette'!C19 -> UE | C19: ='S1 Maquette'!F19 -> 0
A20: ='S1 Maquette'!B20 -> Compétences écrites 1 | B20: ='S1 Maquette'!C20 -> ECUE | C20: ='S1 Maquette'!F20 -> 0
A21: ='S1 Maquette'!B21 -> Compétences informationnelles | B21: ='S1 Maquette'!C21 -> ECUE | C21: ='S1 Maquette'!F21 -> 0
A22: ='S1 Maquette'!B22 -> Langue Vivante-1 | B22: ='S1 Maquette'!C22 -> ECUE | C22: ='S1 Maquette'!F22 -> 0
A23: ='S1 Maquette'!B23 -> Min 1 Max 1 | B23: ='S1 Maquette'!C23 -> OPTION | C23: ='S1 Maquette'!F23 -> 0
A24: ='S1 Maquette'!B24 -> Anglais 1 | B24: ='S1 Maquette'!C24 -> ECUE | C24: ='S1 Maquette'!F24 -> 0
A25: ='S1 Maquette'!B25 -> Espagnol | B25: ='S1 Maquette'!C25 -> ECUE
A26: ='S1 Maquette'!B26 -> Italien | B26: ='S1 Maquette'!C26 -> ECUE | C26: ='S1 Maquette'!F26 -> 0
A27: ='S1 Maquette'!B27 -> Disciplinaire 1 | B27: ='S1 Maquette'!C27 -> UE | C27: ='[1]S1 Maquette'!F27 -> 0 | E27: OUI | F27: OUI | G27: OUI | H27: OUI | I27: OUI | J27: 7
A28: ='S1 Maquette'!B28 -> Introduction à la sociologie | B28: ='S1 Maquette'!C28 -> ECUE | C28: Modification MCC | D28: 2 | E28: OUI | F28: OUI | G28: OUI | H28: OUI | I28: OUI | K28: CT (Contrôle terminal) | N28: Écrit | O28: 2H | P28: CT (Contrôle terminal) | Q28: Écrit | R28: 2 heures
A29: ='S1 Maquette'!B29 -> Lire et interpréter les données sociales 1 | B29: ='S1 Maquette'!C29 -> ECUE | C29: Modification MCC | D29: 1 | E29: OUI | F29: OUI | G29: OUI | H29: OUI | I29: OUI | K29: CCI (CC Intégral) | M29: 2 | P29: CT (Contrôle terminal) | Q29: Écrit | R29: 1 heure | S29: Suppression de la plus mauvaise note
A30: ='S1 Maquette'!B30 -> UE Découverte dans la mention (UED sociologie 1) | B30: ='S1 Maquette'!C30 -> UE | C30: ='[1]S1 Maquette'!F30 -> 0 | E30: OUI | F30: OUI | G30: OUI | H30: OUI | I30: OUI
A31: ='S1 Maquette'!B31 -> Populations et sociétés | B31: ='S1 Maquette'!C31 -> ECUE | C31: ='[1]S1 Maquette'!F31 -> 0 | D31: 1 | E31: OUI | F31: OUI | G31: OUI | H31: OUI | I31: OUI | K31: CT (Contrôle terminal) | N31: Écrit | O31: 1 heure | P31: CT (Contrôle terminal) | Q31: Écrit | R31: 1 heure | T31: QCM sur tablettes numériques
A32: ='S1 Maquette'!B32 -> Racisme et sociétés | B32: ='S1 Maquette'!C32 -> ECUE | C32: ='[1]S1 Maquette'!F32 -> 0 | D32: 1 | E32: OUI | F32: OUI | G32: OUI | H32: OUI | I32: OUI | K32: CT (Contrôle terminal) | N32: Écrit | O32: 1 heure | P32: CT (Contrôle terminal) | Q32: Écrit | R32: 1 heure | T32: QCM sur tablettes numériques
A33: ='S1 Maquette'!B33 -> UE Découverte dans la mention (sociologie) ou dans le Portail | B33: ='S1 Maquette'!C33 -> BLOC | C33: ='[1]S1 Maquette'!F33 -> 0 | E33: OUI | F33: OUI | G33: OUI | H33: OUI | I33: OUI
A34: ='S1 Maquette'!B34 -> Min1 max1 | B34: ='S1 Maquette'!C34 -> OPTION
A35: ='S1 Maquette'!B35 -> UE Découverte dans la mention (UED sociologie 2) | B35: ='S1 Maquette'!C35 -> UE | C35: ='[1]S1 Maquette'!F35 -> Création | E35: OUI | F35: OUI | G35: OUI | H35: OUI | I35: OUI
A36: ='S1 Maquette'!B36 -> Grands ouvrages 1 | B36: ='S1 Maquette'!C36 -> ECUE | C36: ='[1]S1 Maquette'!F36 -> Création | D36: 1 | E36: OUI | F36: OUI | G36: OUI | H36: OUI | I36: OUI | K36: CT (Contrôle terminal) | N36: Écrit | O36: 1H | P36: CT (Contrôle terminal) | Q36: Écrit | R36: 1H | T36: QCM sur tablettes numériques
A37: ='S1 Maquette'!B37 -> Méthodologies sociologiques 1 | B37: ='S1 Maquette'!C37 -> ECUE | C37: ='[1]S1 Maquette'!F37 -> 0 | D37: 1 | E37: OUI | F37: OUI | G37: OUI | H37: OUI | I37: OUI | K37: CT (Contrôle terminal) | N37: Écrit | O37: 1H | P37: CT (Contrôle terminal) | Q37: Écrit | R37: 1H | T37: Devoir sur table
A38: ='S1 Maquette'!B38 -> UE Découverte dans le Portail | B38: ='S1 Maquette'!C38 -> BLOC | C38: ='[1]S1 Maquette'!F38 -> 0 | E38: OUI | F38: OUI | G38: OUI | H38: OUI | I38: OUI
A39: ='S1 Maquette'!B39 -> Min1 max 1 | B39: ='S1 Maquette'!C39 -> OPTION | C39: ='[1]S1 Maquette'!F39 -> 0
A40: ='S1 Maquette'!B40 -> UE Découverte SHAE | B40: ='S1 Maquette'!C40 -> UE | C40: ='S1 Maquette'!F40 -> 0
A41: ='S1 Maquette'!B41 -> Min 1 Max 1 | B41: ='S1 Maquette'!C41 -> OPTION | C41: ='S1 Maquette'!F41 -> 0
A42: ='S1 Maquette'!B42 -> UED Ethnologie 1 : Notions et concepts clés 1 | B42: ='S1 Maquette'!C42 -> UE | C42: ='S1 Maquette'!F42 -> Modification
A43: ='S1 Maquette'!B43 -> UED Ethnologie 2 : Interculturalité : Regards croisés 1 | B43: ='S1 Maquette'!C43 -> UE | C43: ='S1 Maquette'!F43 -> Création
A44: ='S1 Maquette'!B44 -> UE découverte Géographie | B44: ='S1 Maquette'!C44 -> UE | C44: ='S1 Maquette'!F44 -> 0
A45: ='S1 Maquette'!B45 -> 0 | B45: ='S1 Maquette'!C45 -> OPTION | C45: ='S1 Maquette'!F45 -> 0
A46: ='S1 Maquette'!B46 -> UED géographie 1 : Géographie Fondamentale 1 | B46: ='S1 Maquette'!C46 -> UE | C46: ='S1 Maquette'!F46 -> 0
A47: ='S1 Maquette'!B47 -> Qu'est ce que la géographie ? | B47: ='S1 Maquette'!C47 -> ECUE | C47: ='S1 Maquette'!F47 -> 0
A48: ='S1 Maquette'!B48 -> Introduction à la géographie physique | B48: ='S1 Maquette'!C48 -> ECUE | C48: ='S1 Maquette'!F48 -> 0
A49: ='S1 Maquette'!B49 -> UED géographie 2 : géographie appliquée aménagement 1 | B49: ='S1 Maquette'!C49 -> UE | C49: ='S1 Maquette'!F49 -> 0
A50: ='S1 Maquette'!B50 -> Sciences environnementales | B50: ='S1 Maquette'!C50 -> ECUE | C50: ='S1 Maquette'!F50 -> 0
A51: ='S1 Maquette'!B51 -> Aménagement du territoire (ex ville et son espace) grandes lois et structure territoire régional | B51: ='S1 Maquette'!C51 -> ECUE | C51: ='S1 Maquette'!F51 -> 0
...

Sheet S1 MCC DA
A7: Composante | B7: Portail_SHS | C7: Diplôme | E7: Sociologie | G7: Code diplôme | H7: HPSHS18
C10: Parcours type
M12: 1ère session | P12: Seconde Chance
A13: Année | B13: 1ère année de Portail | D13: Code Année
M14: Contrôle continu | N14: Contrôle Terminal
A15: Semestre | B15: Semestre 1 | D15: Code Semestre
A18: Libellé | B18: Nature | C18: Statut | D18: Coefficient | E18: Notes attendues | F18: Résultat attendu: (ACQ/AJ) | G18: Conservation note | H18: Capitalisable | I18: Compensable | J18: Seuil de compensation /20 | K18: Type de contrôle | L18: Si CC&CT coef du CT | M18: Nbre d'évalution minimum | N18: Nature | O18: Durée | P18: Format d'évaluation | Q18: Nature | R18: Durée | S18: Modalités de mise en œuvre | T18: Commentaires
A19: Compétences transversales S1 | B19: UE
A20: Compétences écrites 1 | B20: ECUE
A21: Compétences informationnelles | B21: ECUE
A22: Langue Vivante-1 | B22: ECUE
A23: Min 1 Max 1 | B23: OPTION
A24: Anglais 1 | B24: ECUE
A25: Espagnol | B25: ECUE
A26: Italien | B26: ECUE
A27: Disciplinaire 1 | B27: UE | E27: OUI | F27: OUI | G27: OUI | H27: OUI | I27: OUI | J27: 7
A28: Introduction à la sociologie | B28: ECUE | C28: Modification MCC | D28: 2 | E28: OUI | F28: OUI | G28: OUI | H28: OUI | I28: OUI | K28: CT (Contrôle terminal) | N28: Écrit | O28: 2 heures | P28: CT (Contrôle terminal) | Q28: Écrit | R28: 2 heures
A29: Lire et interpréter les données sociales 1 | B29: ECUE | C29: Modification MCC | D29: 1 | E29: OUI | F29: OUI | G29: OUI | H29: OUI | I29: OUI | K29: CT (Contrôle terminal) | N29: Écrit | O29: 2 heures | P29: CT (Contrôle terminal) | Q29: Écrit | R29: 1 heure
A30: Découverte Sociologie 1 | B30: UE | F30: OUI | I30: OUI
A31: Populations et sociétés | B31: ECUE | D31: 1 | E31: OUI | F31: OUI | G31: OUI | H31: OUI | I31: OUI | K31: CT (Contrôle terminal) | N31: Écrit | O31: 1 heure | P31: CT (Contrôle terminal) | Q31: Écrit | R31: 1 heure | T31: QCM sur tablettes numériques
A32: Racisme et sociétés | B32: ECUE | D32: 1 | E32: OUI | F32: OUI | G32: OUI | H32: OUI | I32: OUI | K32: CT (Contrôle terminal) | N32: Écrit | O32: 1 heure | P32: CT (Contrôle terminal) | Q32: Écrit | R32: 1 heure | T32: QCM sur tablettes numériques
A33: Découverte 1 (Min 1 Max 1) | B33: OPTION
A34: Découverte Sociologie 2 | B34: UE | C34: Création | E34: OUI | F34: OUI | G34: OUI | H34: OUI | I34: OUI
A35: Grands ouvrages 1 | B35: ECUE | C35: Création | E35: OUI | F35: OUI | G35: OUI | H35: OUI | I35: OUI | K35: CT (Contrôle terminal) | N35: Écrit | O35: 1H | P35: CT (Contrôle terminal) | Q35: Ecrit | R35: 1H | T35: QCM sur tablettes numériques
A36: Méthodologies sociologiques 1 | B36: ECUE | C36: Création | E36: OUI | F36: OUI | G36: OUI | H36: OUI | I36: OUI | K36: CT (Contrôle terminal) | N36: Écrit | O36: 1H | P36: CT (Contrôle terminal) | Q36: Ecrit | R36: 1H | T36: Devoir sur table
A37: Découverte Hors discipline | B37: UE
A38: Découverte 2 (Min 1 Max 1) | B38: OPTION
A39: Découverte Hors discipline | B39: UE

Sheet S2 Maquette
A7: Composante | B7: ='Fiche Générale'!B3 -> Portail_SHS | C7: Diplôme | E7: ='Fiche Générale'!B4 -> Sociologie | G7: Code diplôme | H7: ='Fiche Générale'!B5 -> HPSHS18
C10: Parcours type | E10: ='Fiche Générale'!B9 -> 0
A13: Année | B13: ='S1 Maquette'!B13 -> 1ère année de Portail | C13: Code année | E13: ='S1 Maquette'!E13 -> 0 | G13: Heures Maquettes | H13: =Calcul!D7 -> 1810
A15: Semestre | B15: Semestre 2 | C15: Code semestre | G15: Heures Valorisées | H15: =Calcul!D20 -> 170
A18: Niveau | B18: Libellé ELP | C18: Nature ELP | D18: ECTS | E18: Type | F18: Statut | G18: Code Apogée | H18: CNU | I18: Heure CM | J18: Heure TD | K18: Heure TP | L18: Langues | M18: Mutualisation | N18: Formation Porteuse | O18: Observations / Remarques ex: Intervention à titre gracieux / Capacité d'accueil max
A19: 0 | B19: Compétences transversales S2 | C19: UE | D19: 6
A20: 0.1 | B20: Compétences numériques 1 | C20: ECUE
A21: 0.2 | B21: Compétences pré-professionnalisation 1 | C21: ECUE
A22: 0.3 | B22: Langue Vivante-2 | C22: ECUE
B23: Min 1 Max 1 | C23: OPTION
A24: 0.3.1 | B24: Anglais 2 | C24: ECUE
A25: 0.3.2 | B25: Espagnol | C25: ECUE
A26: 0.3.3 | B26: Italien | C26: ECUE
A27: 1 | B27: Disciplinaire 2 | C27: UE | D27: 6 | O27: UE disciplinaire obligatoire pour les étudiant·es de sociologie et de la double licence socio-éco
A28: 1.1 | B28: Grands courants de la sociologie | C28: ECUE | D28: 4 | H28: 19-Sociologie, démographie | I28: 24 | M28: Porteuse | O28: Socio (100) + double licence socio-éco (50)
A29: 1.2 | B29: Lire et interpréter les données sociales 2 | C29: ECUE | D29: 2 | H29: 19-Sociologie, démographie | J29: 24 | M29: Porteuse | O29: Socio (100) + double licence socio-éco (50)
A30: 2 | B30: UE Découverte dans la mention (UED sociologie 3) | C30: UE | D30: 6 | O30: UE découverte à choix ouverte aux étudiant·es du portail SHS et obligatoire pour les étudiant·es de sociologie et de la double licence socio-éco
A31: 2.1 | B31: Genre et sociétés | C31: ECUE | D31: 3 | H31: 19-Sociologie, démographie | I31: 20 | M31: Porteuse | O31: Socio (100) + double licence socio-éco (50) + portail SHS (100). Capacité d'accueil max : 250
A32: 2.2 | B32: Environnement et sociétés | C32: ECUE | D32: 3 | H32: 19-Sociologie, démographie | I32: 20 | M32: Porteuse | O32: Socio (100) + double licence socio-éco (50) + portail SHS (100). Capacité d'accueil max : 250
A33: 3 | B33: UE Découverte dans la mention (sociologie) ou dans le Portail | C33: BLOC
B34: Min1 max1 | C34: OPTION | O34: Les étudiants de sociologie ont le choix entre l'UE Découverte Sociologie 4 ou une UE hors discipline
A35: 3.1 | B35: UE Découverte dans la mention (UED sociologie 4) | C35: UE | D35: 6 | F35: Création | O35: UE découverte à choix ouverte aux étudiant·es du portail SHS et non obligatoire pour les étudiant·es de sociologie et pas dans la maquette de la double licence socio-éco
A36: 3.1.1 | B36: Grands ouvrages 2 | C36: ECUE | D36: 3 | F36: Création | H36: 19-Sociologie, démographie | I36: 20 | M36: Porteuse | O36: Portail SHS (entre 35 et 85 places). Capacité d'accueil max : 135
A37: 3.1.2 | B37: Méthodologies sociologiques 2 | C37: ECUE | D37: 3 | F37: Création | H37: 19-Sociologie, démographie | J37: 20 | M37: Porteuse | O37: Portail SHS (entre 35 et 85 places). Capacité d'accueil max : 135
A38: 3.2 | B38: UE Découverte dans le Portail | C38: BLOC | M38: Portée | O38: A choisir dans une disciplinaire à choix du portail SHS (hors sociologie)
B39: Min 1 Max 1 | C39: OPTION | O39: UE découverte à choisir dans une autre discipline du portail SHS (hors sociologie)
A40: 3.2.1 | B40: UE découverte SHAE | C40: UE
B41: Min 1 Max 1 | C41: OPTION
A42: 3.2.1.1 | B42: UED Ethnologie 3 : Notions et concepts clés 2 | C42: UE | D42: 6 | F42: Modification | H42: 20-Anthropologie biologique, ethnologie, préhistoire | I42: 30 | M42: Portée | N42: Anthropolgie-Ethnologie
A43: 3.2.1.2 | B43: UED Ethnologie 4 : Interculturalité : Regards croisés 2 | C43: UE | D43: 6 | F43: Création | H43: 20-Anthropologie biologique, ethnologie, préhistoire | I43: 30 | M43: Portée | N43: Anthropolgie-Ethnologie
A44: 3.2.2 | B44: UE découverte géographie | C44: UE
B45: Min 1 Max 1 | C45: OPTION
A46: 3.2.2.1 | B46: UED géographie 3 | C46: UE | D46: 6
A47: 3.2.2.1.1 | B47: Géographie humaine (urbaine et rurale) | C47: ECUE | D47: 3 | H47: 23-Géographie physique, humaine, économique et régionale | I47: 20 | M47: Portée | N47: Géographie - aménagement
A48: 3.2.2.1.2 | B48: Climatologie générale | C48: ECUE | D48: 3 | H48: 23-Géographie physique, humaine, économique et régionale | I48: 20 | M48: Portée | N48: Géographie - aménagement
A49: 3.2.2.2 | B49: UED géographie 4 : géographie appliquée aménagement 1 | C49: UE | D49: 6
A50: 3.2.2.2.1 | B50: Biogeographie | C50: ECUE | D50: 3 | H50: 24-Aménagement de l'espace, urbanisme | I50: 20 | M50: Portée | N50: Géographie - aménagement
A51: 3.2.2.2.2 | B51: Géographie des littoraux | C51: ECUE | D51: 3 | H51: 24-Aménagement de l'espace, urbanisme | I51: 20 | M51: Portée | N51: Géographie - aménagement
A52: 3.2.3 | B52: UE découverte SEF | C52: UE
B53: Min 1 Max 1 | C53: OPTION
...

Sheet S2 MCC
A7: Composante | B7: ='Fiche Générale'!B3 -> Portail_SHS | C7: Diplôme | E7: ='Fiche Générale'!B4 -> Sociologie | G7: Code diplôme | H7: ='Fiche Générale'!B5 -> HPSHS18
C10: Parcours type | E10: ='Fiche Générale'!B9 -> 0
M12: 1ère session | P12: Seconde Chance
A13: Année | B13: ='S2 Maquette'!B13 -> 1ère année de Portail | D13: Code Année | E13: ='S2 Maquette'!E13 -> 0
M14: Contrôle continu | N14: Contrôle Terminal
A15: Semestre | B15: ='S2 Maquette'!B15 -> Semestre 2 | D15: Code Semestre | E15: ='S2 Maquette'!E15:F16 -> 0
A18: Libellé | B18: Nature | C18: Statut | D18: Coefficient | E18: Notes attendues | F18: Résultat attendu: (ACQ/AJ) | G18: Conservation note | H18: Capitalisable | I18: Compensable | J18: Seuil de compensation /20 | K18: Type de contrôle | L18: Si CC&CT coef du CT | M18: Nbre d'évalution minimum | N18: Nature | O18: Durée | P18: Format d'évaluation | Q18: Nature | R18: Durée | S18: Modalités de mise en œuvre | T18: Commentaires
A19: ='S2 Maquette'!B19 -> Compétences transversales S2 | B19: ='S2 Maquette'!C19 -> UE | C19: ='S2 Maquette'!F19 -> 0
A20: ='S2 Maquette'!B20 -> Compétences numériques 1 | B20: ='S2 Maquette'!C20 -> ECUE | C20: ='S2 Maquette'!F20 -> 0
A21: ='S2 Maquette'!B21 -> Compétences pré-professionnalisation 1 | B21: ='S2 Maquette'!C21 -> ECUE | C21: ='S2 Maquette'!F21 -> 0
A22: ='S2 Maquette'!B22 -> Langue Vivante-2 | B22: ='S2 Maquette'!C22 -> ECUE | C22: ='S2 Maquette'!F22 -> 0
A23: ='S2 Maquette'!B23 -> Min 1 Max 1 | B23: ='S2 Maquette'!C23 -> OPTION | C23: ='S2 Maquette'!F23 -> 0
A24: ='S2 Maquette'!B24 -> Anglais 2 | B24: ='S2 Maquette'!C24 -> ECUE | C24: ='S2 Maquette'!F24 -> 0
A25: ='S2 Maquette'!B25 -> Espagnol | B25: ='S2 Maquette'!C25 -> ECUE | C25: ='S2 Maquette'!F25 -> 0
A26: ='S2 Maquette'!B26 -> Italien | B26: ='S2 Maquette'!C26 -> ECUE | C26: ='S2 Maquette'!F26 -> 0
A27: ='S2 Maquette'!B27 -> Disciplinaire 2 | B27: ='S2 Maquette'!C27 -> UE | C27: ='S2 Maquette'!F27 -> 0 | E27: OUI | F27: OUI | G27: OUI | H27: OUI | I27: OUI | J27: 7
A28: ='S2 Maquette'!B28 -> Grands courants de la sociologie | B28: ='S2 Maquette'!C28 -> ECUE | C28: Modification MCC | D28: 2 | E28: OUI | F28: OUI | G28: OUI | H28: OUI | I28: OUI | K28: CCI (CC Intégral) | M28: 2 | P28: CT (Contrôle terminal) | Q28: Écrit | R28: 2 heures
A29: ='S2 Maquette'!B29 -> Lire et interpréter les données sociales 2 | B29: ='S2 Maquette'!C29 -> ECUE | C29: Modification MCC | D29: 1 | E29: OUI | F29: OUI | G29: OUI | H29: OUI | I29: OUI | K29: CCI (CC Intégral) | M29: 2 | P29: CT (Contrôle terminal) | Q29: Écrit | R29: 1 heure
A30: ='S2 Maquette'!B30 -> UE Découverte dans la mention (UED sociologie 3) | B30: ='S2 Maquette'!C30 -> UE | C30: ='S2 Maquette'!F30 -> 0 | E30: OUI | F30: OUI | G30: OUI | H30: OUI | I30: OUI
A31: ='S2 Maquette'!B31 -> Genre et sociétés | B31: ='S2 Maquette'!C31 -> ECUE | C31: ='S2 Maquette'!F31 -> 0 | D31: 1 | E31: OUI | F31: OUI | G31: OUI | H31: OUI | I31: OUI | K31: CT (Contrôle terminal) | N31: Écrit | O31: 1 heure | P31: CT (Contrôle terminal) | Q31: Écrit | R31: 1 heure | T31: QCM sur tablettes numériques
A32: ='S2 Maquette'!B32 -> Environnement et sociétés | B32: ='S2 Maquette'!C32 -> ECUE | C32: ='S2 Maquette'!F32 -> 0 | D32: 1 | E32: OUI | F32: OUI | G32: OUI | H32: OUI | I32: OUI | K32: CT (Contrôle terminal) | N32: Écrit | O32: 1 heure | P32: CT (Contrôle terminal) | Q32: Écrit | R32: 1 heure | T32: QCM sur tablettes numériques
A33: ='S2 Maquette'!B33 -> UE Découverte dans la mention (sociologie) ou dans le Portail | B33: ='S2 Maquette'!C33 -> BLOC | C33: ='S2 Maquette'!F33 -> 0 | E33: OUI | F33: OUI | G33: OUI | H33: OUI | I33: OUI
A34: ='S2 Maquette'!B34 -> Min1 max1 | B34: ='S2 Maquette'!C34 -> OPTION | C34: ='S2 Maquette'!F34 -> 0
A35: ='S2 Maquette'!B35 -> UE Découverte dans la mention (UED sociologie 4) | B35: ='S2 Maquette'!C35 -> UE | C35: ='S2 Maquette'!F35 -> Création | E35: OUI | F35: OUI | G35: OUI | H35: OUI | I35: OUI
A36: ='S2 Maquette'!B36 -> Grands ouvrages 2 | B36: ='S2 Maquette'!C36 -> ECUE | C36: ='S2 Maquette'!F36 -> Création | E36: OUI | F36: OUI | G36: OUI | H36: OUI | I36: OUI | K36: CT (Contrôle terminal) | N36: Écrit | O36: 1H | P36: CT (Contrôle terminal) | Q36: Écrit | R36: 1H | T36: QCM sur tablettes numériques
A37: ='S2 Maquette'!B37 -> Méthodologies sociologiques 2 | B37: ='S2 Maquette'!C37 -> ECUE | C37: ='S2 Maquette'!F37 -> Création | E37: OUI | F37: OUI | G37: OUI | H37: OUI | I37: OUI | K37: CT (Contrôle terminal) | N37: Écrit | O37: 1H | P37: CT (Contrôle terminal) | Q37: Écrit | R37: 1H | T37: Devoir sur table
A38: ='S2 Maquette'!B38 -> UE Découverte dans le Portail | B38: ='S2 Maquette'!C38 -> BLOC | C38: ='S2 Maquette'!F38 -> 0
A39: ='S2 Maquette'!B39 -> Min 1 Max 1 | B39: ='S2 Maquette'!C39 -> OPTION | C39: ='S2 Maquette'!F39 -> 0
A40: ='S2 Maquette'!B40 -> UE découverte SHAE | B40: ='S2 Maquette'!C40 -> UE | C40: ='S2 Maquette'!F40 -> 0
A41: ='S2 Maquette'!B41 -> Min 1 Max 1 | B41: ='S2 Maquette'!C41 -> OPTION | C41: ='S2 Maquette'!F41 -> 0
A42: ='S2 Maquette'!B42 -> UED Ethnologie 3 : Notions et concepts clés 2 | B42: ='S2 Maquette'!C42 -> UE | C42: ='S2 Maquette'!F42 -> Modification
A43: ='S2 Maquette'!B43 -> UED Ethnologie 4 : Interculturalité : Regards croisés 2 | B43: ='S2 Maquette'!C43 -> UE | C43: ='S2 Maquette'!F43 -> Création
A44: ='S2 Maquette'!B44 -> UE découverte géographie | B44: ='S2 Maquette'!C44 -> UE | C44: ='S2 Maquette'!F44 -> 0
A45: ='S2 Maquette'!B45 -> Min 1 Max 1 | B45: ='S2 Maquette'!C45 -> OPTION | C45: ='S2 Maquette'!F45 -> 0
A46: ='S2 Maquette'!B46 -> UED géographie 3 | B46: ='S2 Maquette'!C46 -> UE | C46: ='S2 Maquette'!F46 -> 0
A47: ='S2 Maquette'!B47 -> Géographie humaine (urbaine et rurale) | B47: ='S2 Maquette'!C47 -> ECUE | C47: ='S2 Maquette'!F47 -> 0
A48: ='S2 Maquette'!B48 -> Climatologie générale | B48: ='S2 Maquette'!C48 -> ECUE | C48: ='S2 Maquette'!F48 -> 0
A49: ='S2 Maquette'!B49 -> UED géographie 4 : géographie appliquée aménagement 1 | B49: ='S2 Maquette'!C49 -> UE | C49: ='S2 Maquette'!F49 -> 0
... A300: ='S2 Maquette'!B300 -> 0 | B300: ='S2 Maquette'!C300 -> 0 | C300: ='S2 Maquette'!F300 -> 0

Sheet S2 MCC DA
A7: Composante | B7: Portail_SHS | C7: Diplôme | E7: Sociologie | G7: Code diplôme | H7: HPSHS18
C10: Parcours type
M12: 1ère session | P12: Seconde Chance
A13: Année | B13: 1ère année de Portail | D13: Code Année
M14: Contrôle continu | N14: Contrôle Terminal
A15: Semestre | B15: Semestre 2 | D15: Code Semestre
A18: Libellé | B18: Nature | C18: Statut | D18: Coefficient | E18: Notes attendues | F18: Résultat attendu: (ACQ/AJ) | G18: Conservation note | H18: Capitalisable | I18: Compensable | J18: Seuil de compensation /20 | K18: Type de contrôle | L18: Si CC&CT coef du CT | M18: Nbre d'évalution minimum | N18: Nature | O18: Durée | P18: Format d'évaluation | Q18: Nature | R18: Durée | S18: Modalités de mise en œuvre | T18: Commentaires
A19: Compétences transversales S2 | B19: UE
A20: Compétences numériques 1 | B20: ECUE
A21: Compétences pré-professionnalisation 1 | B21: ECUE
A22: Langue Vivante-2 | B22: ECUE
A23: Min 1 Max 1 | B23: OPTION
A24: Anglais 2 | B24: ECUE
A25: Espagnol | B25: ECUE
A26: Italien | B26: ECUE
A27: Disciplinaire 2 | B27: UE | E27: OUI | F27: OUI | G27: OUI | H27: OUI | I27: OUI | J27: 7
A28: Grands courants de la sociologie | B28: ECUE | C28: Modification MCC | D28: 2 | E28: OUI | F28: OUI | G28: OUI | H28: OUI | I28: OUI | K28: CT (Contrôle terminal) | N28: Écrit | O28: 2 heures | P28: CT (Contrôle terminal) | Q28: Écrit | R28: 2 heures
A29: Lire et interpréter les données sociales 2 | B29: ECUE | C29: Modification MCC | D29: 1 | E29: OUI | F29: OUI | G29: OUI | H29: OUI | I29: OUI | K29: CT (Contrôle terminal) | N29: Écrit | O29: 1 heure | P29: CT (Contrôle terminal) | Q29: Écrit | R29: 1 heure
A30: Découverte Sociologie 3 | B30: UE | E30: OUI | F30: OUI | G30: OUI | H30: OUI | I30: OUI
A31: Genre et sociétés | B31: ECUE | D31: 1 | E31: OUI | F31: OUI | G31: OUI | H31: OUI | I31: OUI | K31: CT (Contrôle terminal) | N31: Écrit | O31: 1 heure | P31: CT (Contrôle terminal) | Q31: Écrit | R31: 1 heure | T31: QCM sur tablettes numériques
A32: Environnement et sociétés | B32: ECUE | D32: 1 | E32: OUI | F32: OUI | G32: OUI | H32: OUI | I32: OUI | K32: CT (Contrôle terminal) | N32: Écrit | O32: 1 heure | P32: CT (Contrôle terminal) | Q32: Écrit | R32: 1 heure | T32: QCM sur tablettes numériques
A33: Découverte 3 (Min 1 Max 1) | B33: OPTION
A34: Découverte sociologie 4 | B34: UE | C34: Création | E34: OUI | F34: OUI | G34: OUI | H34: OUI | I34: OUI | K34: CT (Contrôle terminal) | N34: Écrit | O34: 2 heures | P34: CT (Contrôle terminal) | Q34: Écrit | R34: 2 heures | T34: QCM sur tablettes numériques
A35: Grands ouvrages 2 | B35: ECUE | C35: Création | E35: NON | F35: NON | G35: OUI | H35: OUI | I35: OUI | K35: CT (Contrôle terminal) | N35: Écrit | O35: 1H | P35: CT (Contrôle terminal) | Q35: Écrit | R35: 1 HEURE | T35: QCM sur tablettes numériques
A36: Méthodologies sociologiques 2 | B36: ECUE | C36: Création | E36: NON | F36: NON | G36: OUI | H36: OUI | I36: OUI | K36: CT (Contrôle terminal) | N36: Écrit | O36: 1H | P36: CT (Contrôle terminal) | Q36: Écrit | R36: 1 HEURE | T36: Devoir sur table
A37: Découverte Hors Discipline | B37: UE
A38: Découverte 4 (Min 1 Max 1) | B38: OPTION
A39: Découverte Hors Discipline | B39: UE

Sheet S3 Maquette
A7: Composante | B7: ='Fiche Générale'!B3 -> Portail_SHS | C7: Diplôme | E7: ='Fiche Générale'!B4 -> Sociologie | G7: Code diplôme | H7: ='Fiche Générale'!B5 -> HPSHS18
C10: Parcours type | E10: ='Fiche Générale'!B9 -> 0
A13: Année | B13: 2ème année de Portail | C13: Code année | G13: Heures Maquette | H13: =Calcul!G7 -> 647
A15: Semestre | B15: Semestre 3 | C15: Code semestre | G15: Heures Valorisées | H15: =Calcul!G20 -> 210
A18: Niveau | B18: Libellé ELP | C18: Nature ELP | D18: ECTS | E18: Type | F18: Statut | G18: Code Apogée | H18: CNU | I18: Heure CM | J18: Heure TD | K18: Heure TP | L18: Langues | M18: Mutualisation | N18: Formation Porteuse | O18: Observations / Remarques ex: Intervention à titre gracieux / Capacité d'accueil max
A19: 0 | B19: Compétences transversales S3 | C19: UE | D19: 6
A20: 0.1 | B20: Compétences informationnelles 2 | C20: ECUE
A21: 0.2 | B21: Compétences pré-professionnalisation 2 | C21: ECUE
A22: 0.3 | B22: Langue Vivante-3 | C22: ECUE
B23: Min 1 Max 1 | C23: OPTION
A24: 0.3.1 | B24: Anglais 3 | C24: ECUE
A25: 0.3.2 | B25: Espagnol | C25: ECUE
A26: 0.3.3 | B26: Italien | C26: ECUE
A27: 1 | B27: Disciplinaire 3 | C27: UE | D27: 6 | O27: UE disciplinaire obligatoire pour les étudiant·es de sociologie et de la double licence socio-éco (sauf Lectures de textes 1)
A28: 1.1 | B28: Théorie sociologique 1 | C28: ECUE | D28: 4 | H28: 19-Sociologie, démographie | I28: 24 | M28: Porteuse | O28: Socio (45) + double licence socio-éco (45)
A29: 1.2 | B29: Lectures de textes 1 | C29: ECUE | D29: 2 | H29: 19-Sociologie, démographie | J29: 18 | M29: Porteuse | O29: Socio (45)
A30: 2 | B30: Disciplinaire 4 | C30: UE | D30: 6 | O30: UE disciplinaire obligatoire pour les étudiant·es de sociologie et de la double licence socio-éco (à l'exception de l'ECUE stats-info)
A31: 2.1 | B31: Statistique-informatique 1 | C31: ECUE | D31: 2 | H31: 19-Sociologie, démographie | I31: 12 | J31: 12 | M31: Porteuse | O31: Socio (45)
A32: 2.2 | B32: Méthodologie 1 : l'enquête par questionnaires | C32: ECUE | D32: 2 | H32: 19-Sociologie, démographie | J32: 30 | M32: Porteuse | O32: Socio (45) + double licence socio-éco (45)
A33: 2.3 | B33: Sociologie de la mondialisation | C33: ECUE | D33: 2 | H33: 19-Sociologie, démographie | I33: 24 | M33: Porteuse | O33: Socio (45) + double licence socio-éco (45)
A34: 3 | B34: Approfondissement Sociologie 1 | C34: UE | D34: 6 | O34: UE approfondissement à choix ouverte aux étudiant·es du portail SHS et obligatoire pour les étudiant·es de sociologie et de la double licence socio-éco
A35: 3.1 | B35: Pauvreté et sociétés | C35: ECUE | D35: 3 | H35: 19-Sociologie, démographie | I35: 20 | M35: Porteuse | O35: Socio (45) + double licence socio-éco (45) + portail SHS (160). Capacité d'accueil max : 250
A36: 3.2 | B36: Santé et sociétés | C36: ECUE | D36: 3 | H36: 19-Sociologie, démographie | I36: 20 | M36: Porteuse | O36: Socio (45) + double licence socio-éco (45) + portail SHS (160). Capacité d'accueil max : 250
A37: 4 | B37: Approfondissement dans le Portail hors mention | C37: UE | D37: 6 | O37: UE approfondissement à choisir dans une autre discipline du portail SHS (hors sociologie)
B38: Min 1 Max 1 | C38: OPTION | M38: Portée | O38: A choisir dans une autre discipline du portail SHS
A39: 4.1 | B39: UE approfondissement Ethnologie-anthropologie 1 | C39: UE | D39: 6 | F39: Création | H39: 20-Anthropologie biologique, ethnologie, préhistoire
A40: 4.1.1 | B40: Concepts et objets de l'anthropologie 3 | C40: ECUE | F40: Création | H40: 20-Anthropologie biologique, ethnologie, préhistoire | I40: 15 | M40: Portée | N40: SHAE
A41: 4.1.2 | B41: Anthropologie des techniques et approches de la culture matérielle | C41: ECUE | F41: Création | H41: 20-Anthropologie biologique, ethnologie, préhistoire | I41: 15 | M41: Portée | N41: SHAE
A42: 4.2 | B42: UE approfondissement géographie fondamentale 1 | C42: UE | D42: 6
A43: 4.2,1 | B43: Géographie Urbaine (processus urbains, metropolisation) | C43: ECUE | D43: 3 | H43: 23-Géographie physique, humaine, économique et régionale | I43: 20 | M43: Portée | N43: Géographie et aménagement
A44: 4.2,2 | B44: Climatologie & Biogeo zonale | C44: ECUE | D44: 3 | H44: 23-Géographie physique, humaine, économique et régionale | I44: 20 | M44: Portée | N44: Géographie et aménagement
A45: 4.3 | B45: UE Approfondissement SEF 1 : Questionnement des pratiques en SEF | C45: UE | D45: 6
A46: 4.3.1 | B46: Didactique des disciplines 1 | C46: ECUE | D46: 2 | H46: 70-Sciences de l'éducation | I46: 20 | M46: Portée | N46: SEF
A47: 4.3.2 | B47: Usages de l'IA en éducation | C47: ECUE | D47: 2 | H47: 70-Sciences de l'éducation | I47: 20 | M47: Portée | N47: SEF
A48: 4.3.3 | B48: Approche par compétences | C48: ECUE | D48: 2 | H48: 70-Sciences de l'éducation | I48: 20 | M48: Portée | N48: SEF
A49: 4.4 | B49: UE approfondissement histoire 1 | C49: UE | D49: 6 | G49: HPUHI34
A50: 4.4.1 | B50: ECUE approfondissement histoire moderne | C50: BLOC
B51: Min 1 Max 1 | C51: OPTION
A52: 4.4.1.1 | B52: UEA1 Histoire moderne | C52: ECUE | G52: HPEHHM30 | J52: 20 | M52: Portée | N52: Histoire
A53: 4.4.1.2 | B53: UEA2 Histoire moderne | C53: ECUE | G53: HPEHHM31 | J53: 20 | M53: Portée | N53: Histoire
...

Sheet S3 MCC
A7: Composante | B7: ='Fiche Générale'!B3 -> Portail_SHS | C7: Diplôme | E7: ='Fiche Générale'!B4 -> Sociologie | G7: Code diplôme | H7: ='Fiche Générale'!B5 -> HPSHS18
C10: Parcours type | E10: ='Fiche Générale'!B9 -> 0
M12: 1ère session | P12: Seconde Chance
A13: Année | B13: ='S3 Maquette'!B13 -> 2ème année de Portail | D13: Code Année | E13: ='S3 Maquette'!E13 -> 0
M14: Contrôle continu | N14: Contrôle Terminal
A15: Semestre | B15: ='S3 Maquette'!B15 -> Semestre 3 | D15: Code Semestre | E15: ='S3 Maquette'!E15:F16 -> 0
A18: Libellé | B18: Nature | C18: Statut | D18: Coefficient | E18: Notes attendues | F18: Résultat attendu: (ACQ/AJ) | G18: Conservation note | H18: Capitalisable | I18: Compensable | J18: Seuil de compensation /20 | K18: Type de contrôle | L18: Si CC&CT coef du CT | M18: Nbre d'évalution minimum | N18: Nature | O18: Durée | P18: Format d'évaluation | Q18: Nature | R18: Durée | S18: Modalités de mise en œuvre | T18: Commentaires
A19: ='S3 Maquette'!B19 -> Compétences transversales S3 | B19: ='S3 Maquette'!C19 -> UE | C19: ='S3 Maquette'!F19 -> 0
A20: ='S3 Maquette'!B20 -> Compétences informationnelles 2 | B20: ='S3 Maquette'!C20 -> ECUE | C20: ='S3 Maquette'!F20 -> 0
A21: ='S3 Maquette'!B21 -> Compétences pré-professionnalisation 2 | B21: ='S3 Maquette'!C21 -> ECUE | C21: ='S3 Maquette'!F21 -> 0
A22: ='S3 Maquette'!B22 -> Langue Vivante-3 | B22: ='S3 Maquette'!C22 -> ECUE | C22: ='S3 Maquette'!F22 -> 0
A23: ='S3 Maquette'!B23 -> Min 1 Max 1 | B23: ='S3 Maquette'!C23 -> OPTION | C23: ='S3 Maquette'!F23 -> 0
A24: ='S3 Maquette'!B24 -> Anglais 3 | B24: ='S3 Maquette'!C24 -> ECUE | C24: ='S3 Maquette'!F24 -> 0
A25: ='S3 Maquette'!B25 -> Espagnol | B25: ='S3 Maquette'!C25 -> ECUE | C25: ='S3 Maquette'!F25 -> 0
A26: ='S3 Maquette'!B26 -> Italien | B26: ='S3 Maquette'!C26 -> ECUE | C26: ='S3 Maquette'!F26 -> 0
A27: ='S3 Maquette'!B27 -> Disciplinaire 3 | B27: ='S3 Maquette'!C27 -> UE | C27: ='S3 Maquette'!F27 -> 0 | E27: OUI | F27: OUI | G27: OUI | H27: OUI | I27: OUI | J27: 7
A28: ='S3 Maquette'!B28 -> Théorie sociologique 1 | B28: ='S3 Maquette'!C28 -> ECUE | C28: ='S3 Maquette'!F28 -> 0 | D28: 2 | E28: OUI | F28: OUI | G28: OUI | H28: OUI | I28: OUI | K28: CCI (CC Intégral) | M28: 2 | P28: CT (Contrôle terminal) | Q28: Écrit | R28: 2 heures
A29: ='S3 Maquette'!B29 -> Lectures de textes 1 | B29: ='S3 Maquette'!C29 -> ECUE | C29: ='S3 Maquette'!F29 -> 0 | D29: 1 | E29: OUI | F29: OUI | G29: OUI | H29: OUI | I29: OUI | K29: CCI (CC Intégral) | M29: 2 | P29: CT (Contrôle terminal) | Q29: Oral
A30: ='S3 Maquette'!B30 -> Disciplinaire 4 | B30: ='S3 Maquette'!C30 -> UE | C30: ='S3 Maquette'!F30 -> 0 | E30: OUI | F30: OUI | G30: OUI | H30: OUI | I30: OUI | J30: 7
A31: ='S3 Maquette'!B31 -> Statistique-informatique 1 | B31: ='S3 Maquette'!C31 -> ECUE | C31: ='S3 Maquette'!F31 -> 0 | D31: 1 | E31: OUI | F31: OUI | G31: OUI | H31: OUI | I31: OUI | K31: CCI (CC Intégral) | M31: 2 | P31: CT (Contrôle terminal) | Q31: Oral
A32: ='S3 Maquette'!B32 -> Méthodologie 1 : l'enquête par questionnaires | B32: ='S3 Maquette'!C32 -> ECUE | C32: ='S3 Maquette'!F32 -> 0 | D32: 1 | E32: OUI | F32: OUI | G32: OUI | H32: OUI | I32: OUI | K32: CCI (CC Intégral) | M32: 2 | P32: CT (Contrôle terminal) | Q32: Oral
A33: ='S3 Maquette'!B33 -> Sociologie de la mondialisation | B33: ='S3 Maquette'!C33 -> ECUE | C33: ='S3 Maquette'!F33 -> 0 | D33: 1 | E33: OUI | F33: OUI | G33: OUI | H33: OUI | I33: OUI | K33: CCI (CC Intégral) | M33: 2 | N33: Écrit | O33: 3H | P33: CT (Contrôle terminal) | Q33: Oral
A34: ='S3 Maquette'!B34 -> Approfondissement Sociologie 1 | B34: ='S3 Maquette'!C34 -> UE | C34: ='S3 Maquette'!F34 -> 0 | E34: OUI | F34: OUI | G34: OUI | H34: OUI | I34: OUI
A35: ='S3 Maquette'!B35 -> Pauvreté et sociétés | B35: ='S3 Maquette'!C35 -> ECUE | C35: ='S3 Maquette'!F35 -> 0 | D35: 1 | E35: OUI | F35: OUI | G35: OUI | H35: OUI | I35: OUI | K35: CT (Contrôle terminal) | N35: Écrit | O35: 1 heure | P35: CT (Contrôle terminal) | Q35: Écrit | R35: 1 heure | T35: QCM sur tablettes numériques
A36: ='S3 Maquette'!B36 -> Santé et sociétés | B36: ='S3 Maquette'!C36 -> ECUE | C36: ='S3 Maquette'!F36 -> 0 | D36: 1 | E36: OUI | F36: OUI | G36: OUI | H36: OUI | I36: OUI | K36: CT (Contrôle terminal) | N36: Écrit | O36: 1 heure | P36: CT (Contrôle terminal) | Q36: Écrit | R36: 1 heure | T36: QCM sur tablettes numériques
A37: ='S3 Maquette'!B37 -> Approfondissement dans le Portail hors mention | B37: ='S3 Maquette'!C37 -> UE | C37: ='S3 Maquette'!F37 -> 0 | E37: OUI | F37: OUI | G37: OUI | H37: OUI | I37: OUI
A38: ='S3 Maquette'!B38 -> Min 1 Max 1 | B38: ='S3 Maquette'!C38 -> OPTION | C38: ='S3 Maquette'!F38 -> 0
A39: ='S3 Maquette'!B39 -> UE approfondissement Ethnologie-anthropologie 1 | B39: ='S3 Maquette'!C39 -> UE | C39: ='S3 Maquette'!F39 -> Création
A40: ='S3 Maquette'!B40 -> Concepts et objets de l'anthropologie 3 | B40: ='S3 Maquette'!C40 -> ECUE | C40: ='S3 Maquette'!F40 -> Création
A41: ='S3 Maquette'!B41 -> Anthropologie des techniques et approches de la culture matérielle | B41: ='S3 Maquette'!C41 -> ECUE | C41: ='S3 Maquette'!F41 -> Création | T41: selon modalités prévues par L@UCA
A42: ='S3 Maquette'!B42 -> UE approfondissement géographie fondamentale 1 | B42: ='S3 Maquette'!C42 -> UE | C42: ='S3 Maquette'!F42 -> 0 | T42: selon modalités prévues par L@UCA
A43: ='S3 Maquette'!B43 -> Géographie Urbaine (processus urbains, metropolisation) | B43: ='S3 Maquette'!C43 -> ECUE | C43: ='S3 Maquette'!F43 -> 0
A44: ='S3 Maquette'!B44 -> Climatologie & Biogeo zonale | B44: ='S3 Maquette'!C44 -> ECUE | C44: ='S3 Maquette'!F44 -> 0
A45: ='S3 Maquette'!B45 -> UE Approfondissement SEF 1 : Questionnement des pratiques en SEF | B45: ='S3 Maquette'!C45 -> UE | C45: ='S3 Maquette'!F45 -> 0
A46: ='S3 Maquette'!B46 -> Didactique des disciplines 1 | B46: ='S3 Maquette'!C46 -> ECUE | C46: ='S3 Maquette'!F46 -> 0
A47: ='S3 Maquette'!B47 -> Usages de l'IA en éducation | B47: ='S3 Maquette'!C47 -> ECUE | C47: ='S3 Maquette'!F47 -> 0
A48: ='S3 Maquette'!B48 -> Approche par compétences | B48: ='S3 Maquette'!C48 -> ECUE | C48: ='S3 Maquette'!F48 -> 0
A49: ='S3 Maquette'!B49 -> UE approfondissement histoire 1 | B49: ='S3 Maquette'!C49 -> UE | C49: ='S3 Maquette'!F49 -> 0
A50: ='S3 Maquette'!B50 -> ECUE approfondissement histoire moderne | B50: ='S3 Maquette'!C50 -> BLOC | C50: ='S3 Maquette'!F50 -> 0
A51: ='S3 Maquette'!B51 -> Min 1 Max 1 | B51: ='S3 Maquette'!C51 -> OPTION | C51: ='S3 Maquette'!F51 -> 0
...

Sheet S3 MCC DA
A7: Composante | B7: Portail_SHS | C7: Diplôme | E7: Sociologie | G7: Code diplôme | H7: HPSHS18
C10: Parcours type
M12: 1ère session | P12: Seconde Chance
A13: Année | B13: 2ème année de Portail | D13: Code Année
M14: Contrôle continu | N14: Contrôle Terminal
A15: Semestre | B15: Semestre 3 | D15: Code Semestre
A18: Libellé | B18: Nature | C18: Statut | D18: Coefficient | E18: Notes attendues | F18: Résultat attendu: (ACQ/AJ) | G18: Conservation note | H18: Capitalisable | I18: Compensable | J18: Seuil de compensation /20 | K18: Type de contrôle | L18: Si CC&CT coef du CT | M18: Nbre d'évalution minimum | N18: Nature | O18: Durée | P18: Format d'évaluation | Q18: Nature | R18: Durée | S18: Modalités de mise en œuvre | T18: Commentaires
A19: Compétences transversales S3 | B19: UE
A20: Compétences informationnelles 2 | B20: ECUE
A21: Compétences pré-professionnalisation 2 | B21: ECUE
A22: Langue Vivante-3 | B22: ECUE
A23: Min 1 Max 1 | B23: OPTION
A24: Anglais 3 | B24: ECUE
A25: Espagnol | B25: ECUE
A26: Italien | B26: ECUE
A27: Disciplinaire 3 | B27: UE | E27: OUI | F27: OUI | G27: OUI | H27: OUI | I27: OUI | J27: 7
A28: Théorie sociologique 1 | B28: ECUE | D28: 2 | E28: OUI | F28: OUI | G28: OUI | H28: OUI | I28: OUI | K28: CT (Contrôle terminal) | N28: Oral | P28: CT (Contrôle terminal) | Q28: Oral
A29: Lectures de textes 1 | B29: ECUE | D29: 1 | E29: OUI | F29: OUI | G29: OUI | H29: OUI | I29: OUI | K29: CT (Contrôle terminal) | N29: Oral | P29: CT (Contrôle terminal) | Q29: Oral
A30: Disciplinaire 4 | B30: UE | E30: OUI | F30: OUI | G30: OUI | H30: OUI | I30: OUI | J30: 7
A31: Statistique-informatique 1 | B31: ECUE | D31: 1 | E31: OUI | F31: OUI | G31: OUI | H31: OUI | I31: OUI | K31: CT (Contrôle terminal) | P31: CT (Contrôle terminal) | Q31: Oral
A32: Méthodologie 1 : l'enquête par questionnaires | B32: ECUE | D32: 1 | E32: OUI | F32: OUI | G32: OUI | H32: OUI | I32: OUI | K32: CT (Contrôle terminal) | N32: Rapport/mémoire | P32: CT (Contrôle terminal) | Q32: Rapport/mémoire
A33: Sociologie de la mondialisation | B33: ECUE | D33: 1 | E33: OUI | F33: OUI | G33: OUI | H33: OUI | I33: OUI | K33: CT (Contrôle terminal) | N33: ECRIT ORAL | O33: 3H | P33: CT (Contrôle terminal) | Q33: Oral
A34: Approfondissement Sociologie 1 | B34: UE | E34: OUI | F34: OUI | G34: OUI | H34: OUI | I34: OUI
A35: Pauvreté et sociétés | B35: ECUE | D35: 1 | E35: OUI | F35: OUI | G35: OUI | H35: OUI | I35: OUI | K35: CT (Contrôle terminal) | N35: Écrit | O35: 1 heure | P35: CT (Contrôle terminal) | Q35: Écrit | R35: 1 heure | T35: QCM sur tablettes numériques
A36: Santé et sociétés | B36: ECUE | D36: 1 | E36: OUI | F36: OUI | G36: OUI | H36: OUI | I36: OUI | K36: CT (Contrôle terminal) | N36: Écrit | O36: 1 heure | P36: CT (Contrôle terminal) | Q36: Écrit | R36: 1 heure | T36: QCM sur tablettes numériques
A37: Approfondissement 1 (Min 1 Max 1) | B37: OPTION
A38: Approfondissement Hors Discipline | B38: UE
A40: UE de préprofessionnalisation L@UCA (Max 1) | B40: OPTION
A41: Management de projet | B41: ECUE | T41: selon modalités prévues par L@UCA
A42: Communication | B42: ECUE | T42: selon modalités prévues par L@UCA

Sheet S4 Maquette
A7: Composante | B7: ='Fiche Générale'!B3 -> Portail_SHS | C7: Diplôme | E7: ='Fiche Générale'!B4 -> Sociologie | G7: Code diplôme | H7: ='Fiche Générale'!B5 -> HPSHS18
C10: Parcours type | E10: ='Fiche Générale'!B9 -> 0
A13: Année | B13: ='S3 Maquette'!B13 -> 2ème année de Portail | C13: Code année | E13: ='S3 Maquette'!E13 -> 0 | G13: Heures Maquette | H13: =Calcul!J7 -> #REF!
A15: Semestre | B15: Semestre 4 | C15: Code semestre | G15: Heures Valorisées | H15: =Calcul!J20 -> #REF!
